BEGIN:VCALENDAR
VERSION:2.0
PRODID:-//AGTO - ECPv6.15.20//NONSGML v1.0//EN
CALSCALE:GREGORIAN
METHOD:PUBLISH
X-ORIGINAL-URL:https://agto.co.uk
X-WR-CALDESC:Events for AGTO
REFRESH-INTERVAL;VALUE=DURATION:PT1H
X-Robots-Tag:noindex
X-PUBLISHED-TTL:PT1H
BEGIN:VTIMEZONE
TZID:UTC
BEGIN:STANDARD
TZOFFSETFROM:+0000
TZOFFSETTO:+0000
TZNAME:UTC
DTSTART:20220101T000000
END:STANDARD
END:VTIMEZONE
BEGIN:VEVENT
DTSTART;TZID=UTC:20231004T190000
DTEND;TZID=UTC:20231004T233000
DTSTAMP:20260420T095413
CREATED:20230216T163536Z
LAST-MODIFIED:20230216T163536Z
UID:6112-1696446000-1696462200@agto.co.uk
SUMMARY:Group Leisure & Travel Awards
DESCRIPTION:
URL:https://agto.co.uk/event/group-leisure-travel-awards/
LOCATION:Double Tree by Hilton\, Milton Keynes
END:VEVENT
END:VCALENDAR