BEGIN:VCALENDAR
VERSION:2.0
PRODID:-//AGTO - ECPv6.15.20//NONSGML v1.0//EN
CALSCALE:GREGORIAN
METHOD:PUBLISH
X-WR-CALNAME:AGTO
X-ORIGINAL-URL:https://agto.co.uk
X-WR-CALDESC:Events for AGTO
REFRESH-INTERVAL;VALUE=DURATION:PT1H
X-Robots-Tag:noindex
X-PUBLISHED-TTL:PT1H
BEGIN:VTIMEZONE
TZID:UTC
BEGIN:STANDARD
TZOFFSETFROM:+0000
TZOFFSETTO:+0000
TZNAME:UTC
DTSTART:20200101T000000
END:STANDARD
END:VTIMEZONE
BEGIN:VEVENT
DTSTART;TZID=UTC:20210211T140000
DTEND;TZID=UTC:20210211T140000
DTSTAMP:20260422T085115
CREATED:20210121T102414Z
LAST-MODIFIED:20210121T102414Z
UID:4133-1613052000-1613052000@agto.co.uk
SUMMARY:Bookability and the tourism distribution landscape
DESCRIPTION:This session will look at what is meant by being “bookable” and will explore domestic and international sales channels. Our overview will explore the options available for your business\, with a view to helping inform your distribution choices for domestic and international recovery. \nClick here to book your place.
URL:https://agto.co.uk/event/bookability-and-the-tourism-distribution-landscape/
LOCATION:Online
CATEGORIES:National
ATTACH;FMTTYPE=image/png:https://agto.co.uk/wp-content/uploads/2021/01/logo-e1611224398221.png
END:VEVENT
END:VCALENDAR