BEGIN:VCALENDAR
VERSION:2.0
PRODID:-//AGTO - ECPv6.15.20//NONSGML v1.0//EN
CALSCALE:GREGORIAN
METHOD:PUBLISH
X-ORIGINAL-URL:https://agto.co.uk
X-WR-CALDESC:Events for AGTO
REFRESH-INTERVAL;VALUE=DURATION:PT1H
X-Robots-Tag:noindex
X-PUBLISHED-TTL:PT1H
BEGIN:VTIMEZONE
TZID:UTC
BEGIN:STANDARD
TZOFFSETFROM:+0000
TZOFFSETTO:+0000
TZNAME:UTC
DTSTART:20250101T000000
END:STANDARD
END:VTIMEZONE
BEGIN:VEVENT
DTSTART;VALUE=DATE:20260508
DTEND;VALUE=DATE:20260509
DTSTAMP:20260422T164932
CREATED:20260228T203113Z
LAST-MODIFIED:20260228T203113Z
UID:11630-1778198400-1778284799@agto.co.uk
SUMMARY:AGTO Magazine Deadline
DESCRIPTION:
URL:https://agto.co.uk/event/agto-magazine-deadline-4/
END:VEVENT
BEGIN:VEVENT
DTSTART;VALUE=DATE:20260528
DTEND;VALUE=DATE:20260529
DTSTAMP:20260422T164932
CREATED:20260319T112110Z
LAST-MODIFIED:20260319T112110Z
UID:11851-1779926400-1780012799@agto.co.uk
SUMMARY:2026 Group Travel Organiser Ship Visit Events - Fred. Olsen Cruise Lines
DESCRIPTION:The event dates & ports are below:   \nNEW 2026 dates \nTuesday 31st March – Bolette – Liverpool \nThursday 28th May – Balmoral – Newcastle \nFriday 16th October – Borealis – Southampton \n  \nFor more information of these events\, please see the Ship Visit Invitation & RSVP link below:  \nGroups and Affinity Ship Visit Programme \n These ship visit events are for group travel organisers & key decision makers only.  \n The ship visit events are complimentary offered on a first come\, first served basis. Complimentary car parking is also available at our cruise terminals for our ship visit events\, details of how to register for the free car parking will be provided within the final ship visit confirmation email.  \n For any queries regarding the ship visits or the registration process\, applicants can contact our Sales Support Team on 01473 746164 or email cruise.sales@fredolsen.co.uk (Mon to Fri 9am – 5pm).
URL:https://agto.co.uk/event/2026-group-travel-organiser-ship-visit-events-fred-olsen-cruise-lines/2026-05-28/
LOCATION:Liverpool
ATTACH;FMTTYPE=image/jpeg:https://agto.co.uk/wp-content/uploads/2026/03/FOCL_2_-Latest-Company-Logo-2.jpg
END:VEVENT
BEGIN:VEVENT
DTSTART;VALUE=DATE:20260612
DTEND;VALUE=DATE:20260613
DTSTAMP:20260422T164932
CREATED:20250714T165406Z
LAST-MODIFIED:20260422T152717Z
UID:10505-1781222400-1781308799@agto.co.uk
SUMMARY:Group Leisure and Travel Awards 2026
DESCRIPTION:Following on from the sell-out event of 2025 the 2026 awards ceremony is moving to the 5*Royal Lancaster Hotel\, London and is set to be bigger and better than ever. \nThe Group Leisure & Travel Awards were first presented in 1997 and it is an annual programme that gives group travel organisers the opportunity to say what’s best for group trips and holidays for all types of people. \nSeveral months of promotions\, voting\, judging and build-up all conclude with an amazing event. \nThe date for your diary is Friday 12th June 2026. \nWith so many of our Members and Partners involved\, nominated and winning take a look at the 2025 event…..\nhttps://www.groupleisureandtravel.com/glt-awards/video-highlights-glt-awards-2025/84925.article
URL:https://agto.co.uk/event/group-leisure-travel-awards-2026/
CATEGORIES:National
ATTACH;FMTTYPE=image/png:https://agto.co.uk/wp-content/uploads/2025/07/Group-Leisure-Travel-Awards-2.png
END:VEVENT
BEGIN:VEVENT
DTSTART;VALUE=DATE:20260807
DTEND;VALUE=DATE:20260808
DTSTAMP:20260422T164932
CREATED:20260228T203141Z
LAST-MODIFIED:20260228T203141Z
UID:11632-1786060800-1786147199@agto.co.uk
SUMMARY:AGTO Magazine Deadline
DESCRIPTION:
URL:https://agto.co.uk/event/agto-magazine-deadline-5/
END:VEVENT
BEGIN:VEVENT
DTSTART;TZID=UTC:20260908T130000
DTEND;TZID=UTC:20260908T160000
DTSTAMP:20260422T164932
CREATED:20260422T150416Z
LAST-MODIFIED:20260422T150416Z
UID:12060-1788872400-1788883200@agto.co.uk
SUMMARY:LONDON FOR GROUPS LIVE 2026
DESCRIPTION:BACK BY POPULAR DEMAND! \nLONDON FOR GROUPS LIVE\, TUESDAY 8TH SEPTEMBER 2026\, BLOOMSBURY BALLROOM \nMORE THAN JUST AN EXHIBITION. A WHOLE DAY LONDON EXPERIENCE. \nReturning for 2026\, LONDON FOR GROUPS LIVE will take place on Tuesday 8th September at The Bloomsbury Ballroom in Holborn.\nOn the day\, you will meet with venues across London who are eagerly awaiting to host your group. Including West End theatre productions\, visitor attractions\, museums\, galleries\, bars\, restaurants and more. \nYou will leave filled with new exciting ideas! \nAs well as the exhibition\, you’ll be able to take advantage of a full day ‘London Experience’ – with previous activities including free river cruises & attraction visits\, tours of museums & galleries\, and an evening at the theatre.\n​
URL:https://agto.co.uk/event/london-for-groups-live-2026/
LOCATION:The Bloomsbury Ballroom\, Victoria House\, Bloomsbury Square\,\, London\, WC1B 4DA\, United Kingdom
CATEGORIES:National
ATTACH;FMTTYPE=image/jpeg:https://agto.co.uk/wp-content/uploads/2025/07/London-For-Groups-Live.jpg
END:VEVENT
BEGIN:VEVENT
DTSTART;VALUE=DATE:20261008
DTEND;VALUE=DATE:20261009
DTSTAMP:20260422T164932
CREATED:20260422T155428Z
LAST-MODIFIED:20260422T155428Z
UID:12077-1791417600-1791503999@agto.co.uk
SUMMARY:Group Leisure and Travel Show
DESCRIPTION:Britain’s favourite group travel event for great ideas\, expert advice and special offers. \nFREE PRIZE DRAW: if you register on or before 1st July 2026 you can opt-in to win an overnight stay at the Holiday Inn Milton Keynes Central\, with dinner and breakfast included.      \nTake advantage of FREE coach travel to the Group Leisure & Travel Show. Link to FREE Coach Transport \n                \n✅ Meet face-to-face with leading attractions\, destinations\, tour operators and cruise lines\n✅ Get new ideas for days out\, short breaks and longer holidays\n✅ Enjoy free seminars and Q&A sessions with celebrity speakers.\n✅ Network with fellow organisers and professionals who understand your world\n✅ Free entry\, free parking and free coach travel! \nWhether you plan one trip or dozens each year\, this show is your one-stop shop to make group travel easier\, more exciting and more rewarding. \n👉 Register now for FREE entry – and start planning your next great trip!
URL:https://agto.co.uk/event/group-leisure-and-travel-show/
LOCATION:Arena MK\, Milton Keynes\, Arena MK\, Milton Keynes\, United Kingdom
ATTACH;FMTTYPE=image/png:https://agto.co.uk/wp-content/uploads/2026/04/Partner-GLTS-2026-Logo-DATES.png
END:VEVENT
BEGIN:VEVENT
DTSTART;VALUE=DATE:20261016
DTEND;VALUE=DATE:20261017
DTSTAMP:20260422T164932
CREATED:20260319T112110Z
LAST-MODIFIED:20260319T112557Z
UID:11852-1792108800-1792195199@agto.co.uk
SUMMARY:2026 Group Travel Organiser Ship Visit Events - Fred. Olsen Cruise Lines
DESCRIPTION:The event dates & ports are below:   \nNEW 2026 dates \nTuesday 31st March – Bolette – Liverpool \nThursday 28th May – Balmoral – Newcastle \nFriday 16th October – Borealis – Southampton \n  \nFor more information of these events\, please see the Ship Visit Invitation & RSVP link below:  \nGroups and Affinity Ship Visit Programme \n These ship visit events are for group travel organisers & key decision makers only.  \n The ship visit events are complimentary offered on a first come\, first served basis. Complimentary car parking is also available at our cruise terminals for our ship visit events\, details of how to register for the free car parking will be provided within the final ship visit confirmation email.  \n For any queries regarding the ship visits or the registration process\, applicants can contact our Sales Support Team on 01473 746164 or email cruise.sales@fredolsen.co.uk (Mon to Fri 9am – 5pm).
URL:https://agto.co.uk/event/2026-group-travel-organiser-ship-visit-events-fred-olsen-cruise-lines-2026-10-16/
LOCATION:Liverpool
ATTACH;FMTTYPE=image/jpeg:https://agto.co.uk/wp-content/uploads/2026/03/FOCL_2_-Latest-Company-Logo-2.jpg
END:VEVENT
BEGIN:VEVENT
DTSTART;VALUE=DATE:20261030
DTEND;VALUE=DATE:20261031
DTSTAMP:20260422T164932
CREATED:20260228T203219Z
LAST-MODIFIED:20260228T203219Z
UID:11634-1793318400-1793404799@agto.co.uk
SUMMARY:AGTO Magazine Deadline
DESCRIPTION:
URL:https://agto.co.uk/event/agto-magazine-deadline-6/
END:VEVENT
BEGIN:VEVENT
DTSTART;VALUE=DATE:20270311
DTEND;VALUE=DATE:20270312
DTSTAMP:20260422T164932
CREATED:20260407T135925Z
LAST-MODIFIED:20260407T141325Z
UID:12014-1804723200-1804809599@agto.co.uk
SUMMARY:The British Tourism & Travel Show
DESCRIPTION:BTTS remains the most comprehensive and best-connected platform for the group travel sector. It brings together a wide range of attractions\, destinations\, and suppliers\, and attracts serious buyers from across the UK and beyond.  \nThe show will return to the NEC\, Birmingham on 11th March 2027.
URL:https://agto.co.uk/event/the-british-tourism-travel-show-3/
LOCATION:NEC Birmingham
ATTACH;FMTTYPE=image/png:https://agto.co.uk/wp-content/uploads/2026/04/BTTS2027-year-only.png
END:VEVENT
END:VCALENDAR