BEGIN:VCALENDAR
VERSION:2.0
PRODID:-//AGTO - ECPv6.15.20//NONSGML v1.0//EN
CALSCALE:GREGORIAN
METHOD:PUBLISH
X-WR-CALNAME:AGTO
X-ORIGINAL-URL:https://agto.co.uk
X-WR-CALDESC:Events for AGTO
REFRESH-INTERVAL;VALUE=DURATION:PT1H
X-Robots-Tag:noindex
X-PUBLISHED-TTL:PT1H
BEGIN:VTIMEZONE
TZID:UTC
BEGIN:STANDARD
TZOFFSETFROM:+0000
TZOFFSETTO:+0000
TZNAME:UTC
DTSTART:20240101T000000
END:STANDARD
END:VTIMEZONE
BEGIN:VEVENT
DTSTART;VALUE=DATE:20250109
DTEND;VALUE=DATE:20250303
DTSTAMP:20260419T185404
CREATED:20240802T190429Z
LAST-MODIFIED:20240802T190429Z
UID:8803-1736380800-1740959999@agto.co.uk
SUMMARY:Cirque du Soleil presents Corteo - London 2025
DESCRIPTION:
URL:https://agto.co.uk/event/cirque-du-soleil-presents-corteo-london-2025/
LOCATION:Royal Albert Hall\, London
END:VEVENT
BEGIN:VEVENT
DTSTART;TZID=UTC:20250204T080000
DTEND;TZID=UTC:20250206T170000
DTSTAMP:20260419T185404
CREATED:20240614T125733Z
LAST-MODIFIED:20240614T125733Z
UID:8315-1738656000-1738861200@agto.co.uk
SUMMARY:AGTO Showcase
DESCRIPTION:We are going to a fabulous Hotel on the South Coast \nThe Marsham Court Hotel in Bournemouth \nright on the seafront! \nThe facilities at the hotel are great\, check out their website for full details go to www.marshamcourthotel.co.uk \nThe hotel  has just been Highly Commended at the Disability Smart Awards 2024 in the Inclusive Customer Experience category – a great achievement when pitched against TUI UK & Ireland \nFull details of the event\, FAM trips\, transport information & booking forms out soon! \nIn the meantime if you wish to express your interest\, drop  Helen a line  at agto.agto.co.uk \nLook forward to seeing many of you at this great event at a fabulous hotel.
URL:https://agto.co.uk/event/agto-showcase/
LOCATION:Marsham Court Hotel\, 3 Russell Cotes Road\, East Cliff\,\, Bournemouth\, BH1 3AB\,
END:VEVENT
END:VCALENDAR